BEGIN:VCALENDAR
VERSION:2.0
PRODID:-//Crafton Hills Iris Farm - ECPv6.15.20//NONSGML v1.0//EN
CALSCALE:GREGORIAN
METHOD:PUBLISH
X-WR-CALNAME:Crafton Hills Iris Farm
X-ORIGINAL-URL:https://craftonhillsirisfarm.com
X-WR-CALDESC:Events for Crafton Hills Iris Farm
REFRESH-INTERVAL;VALUE=DURATION:PT1H
X-Robots-Tag:noindex
X-PUBLISHED-TTL:PT1H
BEGIN:VTIMEZONE
TZID:America/Los_Angeles
BEGIN:DAYLIGHT
TZOFFSETFROM:-0800
TZOFFSETTO:-0700
TZNAME:PDT
DTSTART:20250309T100000
END:DAYLIGHT
BEGIN:STANDARD
TZOFFSETFROM:-0700
TZOFFSETTO:-0800
TZNAME:PST
DTSTART:20251102T090000
END:STANDARD
BEGIN:DAYLIGHT
TZOFFSETFROM:-0800
TZOFFSETTO:-0700
TZNAME:PDT
DTSTART:20260308T100000
END:DAYLIGHT
BEGIN:STANDARD
TZOFFSETFROM:-0700
TZOFFSETTO:-0800
TZNAME:PST
DTSTART:20261101T090000
END:STANDARD
BEGIN:DAYLIGHT
TZOFFSETFROM:-0800
TZOFFSETTO:-0700
TZNAME:PDT
DTSTART:20270314T100000
END:DAYLIGHT
BEGIN:STANDARD
TZOFFSETFROM:-0700
TZOFFSETTO:-0800
TZNAME:PST
DTSTART:20271107T090000
END:STANDARD
END:VTIMEZONE
BEGIN:VEVENT
DTSTART;TZID=America/Los_Angeles:20260515T090000
DTEND;TZID=America/Los_Angeles:20260515T113000
DTSTAMP:20260420T042710
CREATED:20260303T162932Z
LAST-MODIFIED:20260303T163248Z
UID:14151-1778835600-1778844600@craftonhillsirisfarm.com
SUMMARY:Garden Visit Friday May 15\, 2026 9:00 AM
DESCRIPTION:We anticipate peak bloom this weekend\, with the majority of our irises in full flower.  Our fields include historic cultivars\, Guardian Garden irises\, award-winning introductions\, and current seedlings from our hybridizing program. Visits are self-guided\, with a member of the Crafton Hills family available to answer questions throughout your time here. A limited number of rhizomes for summer shipping or Gardnerville pick-up will be available\, depending on prior online sales.
URL:https://craftonhillsirisfarm.com/event/garden-visit-friday-may-15-2026-900-am/
CATEGORIES:Friday Visits
END:VEVENT
BEGIN:VEVENT
DTSTART;TZID=America/Los_Angeles:20260515T100000
DTEND;TZID=America/Los_Angeles:20260515T120000
DTSTAMP:20260420T042710
CREATED:20260303T163251Z
LAST-MODIFIED:20260303T163251Z
UID:14155-1778839200-1778846400@craftonhillsirisfarm.com
SUMMARY:Garden Visit Friday May 15\, 2026 10:00 AM
DESCRIPTION:We anticipate peak bloom this weekend\, with the majority of our irises in full flower.  Our fields include historic cultivars\, Guardian Garden irises\, award-winning introductions\, and current seedlings from our hybridizing program. Visits are self-guided\, with a member of the Crafton Hills family available to answer questions throughout your time here. A limited number of rhizomes for summer shipping or Gardnerville pick-up will be available\, depending on prior online sales.
URL:https://craftonhillsirisfarm.com/event/garden-visit-friday-may-15-2026-1000-am/
CATEGORIES:Friday Visits
END:VEVENT
END:VCALENDAR